BEGIN:VCALENDAR
VERSION:2.0
PRODID:-//Sir Charles Hayward Library - ECPv6.11.0.1//NONSGML v1.0//EN
CALSCALE:GREGORIAN
METHOD:PUBLISH
X-WR-CALNAME:Sir Charles Hayward Library
X-ORIGINAL-URL:https://sircharleshaywardlibrary.com
X-WR-CALDESC:Events for Sir Charles Hayward Library
REFRESH-INTERVAL;VALUE=DURATION:PT1H
X-Robots-Tag:noindex
X-PUBLISHED-TTL:PT1H
BEGIN:VTIMEZONE
TZID:America/Indiana/Indianapolis
BEGIN:DAYLIGHT
TZOFFSETFROM:-0500
TZOFFSETTO:-0400
TZNAME:EDT
DTSTART:20260308T070000
END:DAYLIGHT
BEGIN:STANDARD
TZOFFSETFROM:-0400
TZOFFSETTO:-0500
TZNAME:EST
DTSTART:20261101T060000
END:STANDARD
END:VTIMEZONE
BEGIN:VEVENT
DTSTART;TZID=America/Indiana/Indianapolis:20260408T143000
DTEND;TZID=America/Indiana/Indianapolis:20260803T130000
DTSTAMP:20260420T132631
CREATED:20260408T020018Z
LAST-MODIFIED:20260408T185053Z
UID:10000006-1775658600-1785762000@sircharleshaywardlibrary.com
SUMMARY:Volunteers Needed at the Sir Charles Hayward Library
DESCRIPTION:The Sir Charles Hayward Library is currently seeking dedicated volunteers to assist with daily library operations. This opportunity is perfect for individuals who enjoy working with books\, organizing materials\, and supporting both children and adult learning spaces. \nVolunteers will help with circulation (checking books in and out)\, shelving in various sections\, shelf reading/weeding\, and preparing new books for use. Flexible weekday shifts are available from 9:00 AM – 1:00 PM or 1:00 PM – 5:00 PM. \nIf you are reliable\, detail-oriented\, and passionate about serving your community\, we encourage you to apply and become part of our team.
URL:https://sircharleshaywardlibrary.com/event/fall-into-reading-2025/
LOCATION:Sir Charles Hayward Library Children’s Section
ATTACH;FMTTYPE=image/jpeg:https://sircharleshaywardlibrary.com/wp-content/uploads/2025/11/SCHLVolunteerNeededFlyer.jpg
ORGANIZER;CN="Charles Hayward Library":MAILTO:info@yourdomain.com
END:VEVENT
END:VCALENDAR